BEGIN:VCALENDAR
VERSION:2.0
PRODID:-//Darwin Day - ECPv6.9.0//NONSGML v1.0//EN
CALSCALE:GREGORIAN
METHOD:PUBLISH
X-ORIGINAL-URL:https://darwinday.org
X-WR-CALDESC:Events for Darwin Day
REFRESH-INTERVAL;VALUE=DURATION:PT1H
X-Robots-Tag:noindex
X-PUBLISHED-TTL:PT1H
BEGIN:VTIMEZONE
TZID:UTC
BEGIN:STANDARD
TZOFFSETFROM:+0000
TZOFFSETTO:+0000
TZNAME:UTC
DTSTART:20230101T000000
END:STANDARD
END:VTIMEZONE
BEGIN:VEVENT
DTSTART;TZID=UTC:20230215T170000
DTEND;TZID=UTC:20230316T202000
DTSTAMP:20260419T053903
CREATED:20230130T042524Z
LAST-MODIFIED:20230130T063547Z
UID:17129-1676480400-1678998000@darwinday.org
SUMMARY:University of Delaware Darwin Day February 15-16\, 2023
DESCRIPTION:Wednesday February 15\, 2023 Morris Library 4:30 PM\nPop Goes the Beagle: Darwin for Children\nMargaret Stetz\nMae & Robert Carter Professor Women and Gender Studies; and\, Professor of Humanities University of Delaware\nScience is increasingly being politicized and scientists themselves demonized. Meanwhile\, what children learn in classrooms and in libraries is also under hostile scrutiny. This talk will bring together the subjects of Darwin and education. Through a survey of recent British and American books for young readers\, many of them illustrated\, we will consider what authors are teaching children about Darwin’s life\, voyages\, discoveries\, theories and\, more generally\, about the role of science in the past and present. \nWednesday February 15\, 2023 Morris Library 4:30 PM\nPop Goes the Beagle: Darwin for Children\nMargaret Stetz\nMae & Robert Carter Professor Women and Gender Studies; and\, Professor of Humanities University of Delaware\nScience is increasingly being politicized and scientists themselves demonized. Meanwhile\, what children learn in classrooms and in libraries is also under hostile scrutiny. This talk will bring together the subjects of Darwin and education. Through a survey of recent British and American books for young readers\, many of them illustrated\, we will consider what authors are teaching children about Darwin’s life\, voyages\, discoveries\, theories and\, more generally\, about the role of science in the past and present. \nWe will host five talks spread out over two days.
URL:https://darwinday.org/event/university-of-delaware-darwin-day-february-15-16-2023/
LOCATION:Morris Library and ISLL\, Newark\, DE\, 19716\, United States
ORGANIZER;CN="Karen Rosenberg and John Jungck":MAILTO:krr@udel.edu
END:VEVENT
BEGIN:VEVENT
DTSTART;TZID=UTC:20230216T210000
DTEND;TZID=UTC:20230316T210000
DTSTAMP:20260419T053903
CREATED:20230212T234352Z
LAST-MODIFIED:20230212T234352Z
UID:17245-1676581200-1679000400@darwinday.org
SUMMARY:Darwin Day 2023: Collezioni\, Tassonomia\, Evoluzione
DESCRIPTION:Dalla morfologia alla genomica: il ruolo delle collezioni museali nello studio dell’evoluzione ieri\, oggi e domani.\nIl Museo di Storia Naturale di Ferrara e il Dipartimento di Scienze della Vita e Biotecnologie dell’Università di Ferrara\, in collaborazione con l’Associazione Didattica Didò e con il patrocinio dell’Associazione Nazionale Musei Scientifici (ANMS) e della Società Italiana di Biologia Evoluzionistica (SIBE)\, presentano\nla sedicesima edizione del Darwin Day Ferrara. Il tema conduttore di quest’anno è centrato sull’importanza delle collezioni di piante e animali per lo studio dell’evoluzione delle specie. I campioni museali forniscono informazioni sul presente e sul passato\, e permettono di ricostruire i cambiamenti\, gli adattamenti\, le estinzioni. Sono anche fondamentali per la tassonomia\, la scienza che definisce i criteri per l’identificazione e le classificazione delle specie\, contribuendo allo sviluppo di strategie di salvaguardia e conservazione degli animali e delle piante in pericolo di estinzione. Dalle collezioni si estraggono dati morfologici ma anche genetici\, a partire dal DNA barcode fino ad arrivare ad una nuova disciplina che studia i genomi estratti dai reperti museali\, la museomica. Ma ogni studio tassonomico ed evolutivo richiede sempre approfondimenti sistematici basati anche sulle caratteristiche morfologiche dei reperti.
URL:https://darwinday.org/event/darwin-day-2023-collezioni-tassonomia-evoluzione/
LOCATION:Museo Civico di Storia Naturale di Ferrara\, Largo F. Vancini 2\, Ferrara\, Ferrara\, 44121\, Italy
ATTACH;FMTTYPE=image/jpeg:https://darwinday.org/wp-content/uploads/2023/02/dday2023.jpg
ORGANIZER;CN="Unnamed Organizer":MAILTO:museo.storianaturale@comune.fe.it
END:VEVENT
BEGIN:VEVENT
DTSTART;TZID=UTC:20230218T140000
DTEND;TZID=UTC:20230218T170000
DTSTAMP:20260419T053903
CREATED:20230204T233044Z
LAST-MODIFIED:20230206T002743Z
UID:17176-1676728800-1676739600@darwinday.org
SUMMARY:Darwin Day 2023
DESCRIPTION:The Tampa Bay Coalition of Reason\nwill present\nDarwin Day 2023\non Saturday\, February 18\,\nbeginning at 2:00 p.m. \nThis will be an in-person event at the Unitarian Universalists of Clearwater at 2470 Nursery Rd.\, as well as online via Zoom. \nTickets for the presentation are available at https://www.atheistsofflorida.org/darwin-day-2023/. \nWe are very pleased to present two outstanding speakers: \nBertha Vazquez is director of education for the Center  for Inquiry\, director of the Teacher Institute for Evolutionary Science (TIES)\, a program of the Center for Inquiry and a project of the Richard Dawkins Foundation for Reason and Science. Since its inception in April 2015\, TIES has presented over 300 professional development opportunities for middle school science teachers across the country\, providing them with free resources to effectively teach their state evolution standards in their classrooms. In December of 2021\, Bertha and fifteen fellow TIES presenters\, published a book titled On Teaching Evolution. \nRyan Cragun is a Professor of Sociology at the University of Tampa and Director of its Honors Program. He is the author of numerous academic papers and ten books\, most of which report on his research on religion and its rapidly evolving impact on society. Ryan is a good friend of the Coalition of Reason and has spoken to our group several times. For more detail on his work\, go to his website: https://www.ryantcragun.com. \nThe title of Dr. Cragun’ s presentation is: Evolution and Religion: Natural Exploits and Artificial Selection. \nA brief summary:\nThere are at least two ways to think about evolution and religion. First\, have humans evolved in a fashion that fosters religiosity? Second\, have religions evolved over time? In this far-reaching talk\, I’ll examine both questions\, drawing on recent research in social science to address whether humans are “innately religious” and whether religions evolve.
URL:https://darwinday.org/event/darwin-day-2023-2/
LOCATION:Unitarian Universalist Clearwater\, 2470 Nursery Rd\, Clearwater\, 33764\, United States
ATTACH;FMTTYPE=image/jpeg:https://darwinday.org/wp-content/uploads/2023/02/DD2023.jpg
END:VEVENT
END:VCALENDAR