BEGIN:VCALENDAR
VERSION:2.0
PRODID:-//Darwin Day - ECPv6.9.0//NONSGML v1.0//EN
CALSCALE:GREGORIAN
METHOD:PUBLISH
X-WR-CALNAME:Darwin Day
X-ORIGINAL-URL:https://darwinday.org
X-WR-CALDESC:Events for Darwin Day
REFRESH-INTERVAL;VALUE=DURATION:PT1H
X-Robots-Tag:noindex
X-PUBLISHED-TTL:PT1H
BEGIN:VTIMEZONE
TZID:UTC
BEGIN:STANDARD
TZOFFSETFROM:+0000
TZOFFSETTO:+0000
TZNAME:UTC
DTSTART:20220101T000000
END:STANDARD
END:VTIMEZONE
BEGIN:VEVENT
DTSTART;TZID=UTC:20220209T100000
DTEND;TZID=UTC:20220213T170000
DTSTAMP:20260421T155007
CREATED:20220202T015812Z
LAST-MODIFIED:20220202T015812Z
UID:16948-1644400800-1644771600@darwinday.org
SUMMARY:Love Science? You'll Love the Museum Store
DESCRIPTION:Charles Darwin’s birthday meets Valentine’s Day during the museum store’s annual Love Science sale! From barware and jewelry to books and toys\, we’ve got a science-themed gift for every valentine on your list. Take 10 percent off all non-consignment purchases (20 percent off for museum members and UO faculty and staff) and receive a free tote bag with your purchase of $50 or more. Admission to the museum store is always free.
URL:https://darwinday.org/event/love-science-youll-love-the-museum-store/
LOCATION:The Museum of Natural and Cultural History\, 1680 E. 15th Ave.\, Eugene\, OR\, 97403\, United States
ATTACH;FMTTYPE=image/jpeg:https://darwinday.org/wp-content/uploads/2022/01/Love-Science-Heart-scaled.jpg
ORGANIZER;CN="Museum of Natural and Cultural History":MAILTO:mnch@uoregon.edu
END:VEVENT
BEGIN:VEVENT
DTSTART;TZID=UTC:20220211T083000
DTEND;TZID=UTC:20220228T190000
DTSTAMP:20260421T155007
CREATED:20220210T063200Z
LAST-MODIFIED:20220210T063346Z
UID:17018-1644568200-1646074800@darwinday.org
SUMMARY:Inside Darwin's Head
DESCRIPTION:This exhibition involves artistic works on the naturalist Charles Darwin\, authored by students in the fields of Communication Design and Multimedia at the U.Porto. \nThe idea came from Emília Costa\, a professor at the Faculty of Fine Arts of the U.Porto (FBAUP)\, who teaches at the Degree in Communication Design at FBAUP and at the Degree in Communication Sciences – Multimedia – at the University of Porto.
URL:https://darwinday.org/event/inside-darwins-head/
LOCATION:Biblioteca da Facldade de Ciências da Universidade do Porto\, Rua de Campo Alegre s/n\, Porto\, Porto\, 4169-007\, Portugal
ATTACH;FMTTYPE=image/png:https://darwinday.org/wp-content/uploads/2022/02/darwin.png
END:VEVENT
BEGIN:VEVENT
DTSTART;TZID=UTC:20220212T100000
DTEND;TZID=UTC:20220212T150000
DTSTAMP:20260421T155007
CREATED:20220204T032310Z
LAST-MODIFIED:20220204T032310Z
UID:16990-1644660000-1644678000@darwinday.org
SUMMARY:Darwin Day at the Greene Geological Museum
DESCRIPTION:February 12 @ 10:00 am – 3:00 pm\nFree\n\n\n\nCome celebrate Charles Darwin’s 213th birthday with us at the Greene Geological Museum at UWM! \nDarwin Day is a free scientific education event open to guests of all ages. Learn about paleontology\, natural history\, and evolution from UWM Department of Geosciences students and educators at our learning tables. See real Wisconsin fossils and hear how these ancient animals once lived and died. Come experience Thomas Greene’s world-renowned mineralogical collection\, including samples that cannot be found anywhere else. Have a pressing natural history question? UWM scientists will be present answer your questions and give you an inside look into the active research at UWM. Have an interesting rock or fossil at home? Bring it in\, and we might be able to identify it for you! Activities for young children will also be available. We hope to see you for all the educational fun!
URL:https://darwinday.org/event/darwin-day-at-the-greene-geological-museum/
LOCATION:Greene Geological Gallery (Lapham 168)\, 3209 North Maryland Avenue\, Milwaukee\, WI\, 53211\, United States
ORGANIZER;CN="Unnamed Organizer":MAILTO:geosci-staff@uwm.edu
END:VEVENT
BEGIN:VEVENT
DTSTART;TZID=UTC:20220212T120000
DTEND;TZID=UTC:20220212T133000
DTSTAMP:20260421T155007
CREATED:20220201T035323Z
LAST-MODIFIED:20220201T061828Z
UID:16977-1644667200-1644672600@darwinday.org
SUMMARY:Eugenie Scott presents Darwin\, Evolution\, Myth – and Humanism
DESCRIPTION:Details\n\n\nCharles Darwin’s religious views have been vigorously debated. The son and grandson of well-known 19th-century freethinkers\, he nonetheless had a conventional religious upbringing\, and scholars agree that for at least the early part of his life\, he was conventionally religious. His views changed later in life\, drifting more towards the rejection of Christianity held by his father and grandfather. One explanation for this change is the development of his idea of evolution by natural selection\, though there is not yet a scholarly consensus on this. Today\, science\, and perhaps especially evolution\, is seen as central to modern Humanism\, and it is variously embraced and vigorously rejected by people of many religious perspectives. But how well does evolution work as religion? Is\, as E.O. Wilson once said\, “The evolutionary epic is probably the best myth we will ever have”? \nOur speaker\nEugenie C. Scott\, a physical anthropologist\, humanist\, and science education pioneer\, is retired as founding Executive Director of The National Center for Science Education: She is a native of Wisconsin and graduate of the University of Wisconsin at Milwaukee(B.S. and M.S) and the University of Missouri (Ph.D.). She authored two books on issues around the teaching of creationism in public schools and was a consultant for the legal team that won the federal court case that disallowed it. Eugenie has been honored by numerous organizations for her work in science education. She and her husband now reside in California. \n\n\n———————-\nThis event is free and is limited to 100 registrants.
URL:https://darwinday.org/event/eugenie-scott-presents-darwin-evolution-myth-and-humanism/
LOCATION:Online
END:VEVENT
BEGIN:VEVENT
DTSTART;TZID=UTC:20220212T170000
DTEND;TZID=UTC:20220212T200000
DTSTAMP:20260421T155007
CREATED:20220210T202705Z
LAST-MODIFIED:20220211T001218Z
UID:17041-1644685200-1644696000@darwinday.org
SUMMARY:Darwin Day Lipari XI ed - 2022
DESCRIPTION:Dopo la pausa dell’anno scorso\, ritorna il #Darwin_Day.\nL’evento\, organizzato dall’Associazione NESOS in collaborazione con Gattopardo Park Hotel\, come di consueto è dedicato alla conoscenza e alla scienza e si celebra in coincidenza con l’anniversario della nascita di Charles Darwin\, il grande biologo inglese a cui dobbiamo la teoria dell’evoluzione.\nL’incontro si terrà nella sala congressi dell’hotel\n🟢 Sabato 12 febbraio alle ore 17.\nInterverranno Maria Clara Martinelli\, Monica Blasi e #Pietro_Lo_Cascio.\nAl termine della conferenza verrà proiettato il documentario della BBC “Darwin e l’evoluzione della specie. Uomini e scimmie”.\nL’ingresso è libero fino a esaurimento posti in sala (capienza ridotta per ragioni pandemiche)\, ma consentito esclusivamente a chi è in possesso del ➡️Green Pass⬅️.
URL:https://darwinday.org/event/darwin-day-lipari-xi-ed-2022/
LOCATION:Gattopardo Park Hotel\, via Isabella Conti\, Lipari\, Messina\, 98055\, Italy
ATTACH;FMTTYPE=image/jpeg:https://darwinday.org/wp-content/uploads/2022/02/DDAY22-copia-1-scaled.jpg
ORGANIZER;CN="Associazione Nesos":MAILTO:associazionenesos@gmail.com
END:VEVENT
BEGIN:VEVENT
DTSTART;TZID=UTC:20220212T190000
DTEND;TZID=UTC:20220212T200000
DTSTAMP:20260421T155007
CREATED:20220210T024108Z
LAST-MODIFIED:20220210T024400Z
UID:17016-1644692400-1644696000@darwinday.org
SUMMARY:Quercus Circus: The Biodiversity and Ecological Value of Oaks
DESCRIPTION:Oaks are one of the defining tree species in our world\, with a long and fascinating history. Charles Darwin considered the nature of oak species to be “a thorny problem”\, but new genetic research suggests that we have come to a nuanced understanding of the oak species concept. This seminar will demystify the genus Quercus by walking through the branches of the oak tree of life. You will discover more about the natural history of oaks and the role they serve at the ecosystem level\, including how current research aims to shed light on the ecological role of hybridization.
URL:https://darwinday.org/event/quercus-circus-the-biodiversity-and-ecological-value-of-oaks/
LOCATION:North Carolina Botanical Garden\, 100 Old Mason Farm Rd\, Chapel Hill\, NC\, 27599\, United States
ORGANIZER;CN="Johnny Randall":MAILTO:jrandall@unc.edu
END:VEVENT
BEGIN:VEVENT
DTSTART;TZID=UTC:20220212T190000
DTEND;TZID=UTC:20220212T213000
DTSTAMP:20260421T155007
CREATED:20220201T033600Z
LAST-MODIFIED:20220201T054236Z
UID:16970-1644692400-1644701400@darwinday.org
SUMMARY:"Mass Extinction in Our Once and Future World"
DESCRIPTION:14th Annual Darwin Day Celebration\n\n\nMass Extinction in Our Once and Future World is topic for Feb 12 Darwin Day \n  \n\n \n\n\n\n\n\n\n\n\n\n\nThe story of life on Earth is still being told. Dinosaurs no longer roam the planet. Species come and go. But what does it all mean? And\, more importantly\, can the fossil record of past mass extinctions inform us of what is likely to come? Dr. Pincelli Hull\, Yale U. Assistant Professor of Earth and Planetary Sciences and Assistant Curator of Invertebrate Paleontology at Yale Peabody Museum\, will explore these questions at the 14th Darwin Day CT Celebration which will be held online on Sat February 12\, 2022\, hosted and sponsored by the Humanists and Freethinkers of Fairfield County. Register at bit.ly/DarwinDayCT2022 \n\nDr. Hull writes\, “I am broadly interested in the evolution and ecology of open ocean ecosystems and species over long-time scales\, as these are the scales on which species evolve and go extinct and ecosystems collapse and reassemble” Her presentation entitled\, Mass Extinctions in our Once and Future World will  “provide an introduction to the scientific study of mass extinction events\, an overview of mass extinctions through time\, and insights from the ancient world for our ongoing biodiversity crisis.” \nThe event also features audience participation in a challenging and entertaining science quiz developed by retired science teacher Mitch Kalmus. No prior training is required to enjoy this social event\, with brain teasers and humor. \nDARWIN DAY is an international celebration of science and humanity held around Charles Darwin’s February 12th birthday\, celebrating the discoveries and life of the man\, and expressing gratitude for the enormous benefits that scientific knowledge\, acquired through human curiosity and ingenuity\, has contributed to the advancement of humanity. \nDr. Hull received her doctorate from Scripps Institution of Oceanography at University of California at San Diego. She has published extensively in numerous scientific journals\, and is the recipient of many fellowships\, grants\, and academic awards. \nShe is an enthusiastic coach of the next generation of young scientists mentoring not only undergraduates and graduate students but also providing opportunities for secondary students. Dr. Hull’s lab participates and supports two outreach programs for high school students in New Haven\, run by EVOLUTIONS (EVoking Learning and Understanding Through Investigations of the Natural Sciences) at the Yale Peabody Museum of Natural History. She will be one of the featured scientists in an upcoming children’s book. To find out more about her lab go to https://people.earth.yale.edu/profile/pincelli-hull/about \nRegister at bit.ly/DarwinDayCT2022 for Darwin Day CT Celebration online free-of-charge on February 12\, 2022.
URL:https://darwinday.org/event/mass-extinction-in-our-once-and-future-world/
LOCATION:Online
END:VEVENT
END:VCALENDAR