BEGIN:VCALENDAR
VERSION:2.0
PRODID:-//Darwin Day - ECPv6.9.0//NONSGML v1.0//EN
CALSCALE:GREGORIAN
METHOD:PUBLISH
X-ORIGINAL-URL:https://darwinday.org
X-WR-CALDESC:Events for Darwin Day
REFRESH-INTERVAL;VALUE=DURATION:PT1H
X-Robots-Tag:noindex
X-PUBLISHED-TTL:PT1H
BEGIN:VTIMEZONE
TZID:UTC
BEGIN:STANDARD
TZOFFSETFROM:+0000
TZOFFSETTO:+0000
TZNAME:UTC
DTSTART:20220101T000000
END:STANDARD
END:VTIMEZONE
BEGIN:VEVENT
DTSTART;TZID=UTC:20220206T130000
DTEND;TZID=UTC:20220206T150000
DTSTAMP:20260421T154519
CREATED:20220128T033312Z
LAST-MODIFIED:20220128T033312Z
UID:16963-1644152400-1644159600@darwinday.org
SUMMARY:Darwin Day Celebration: Virtual Museum World Tour
DESCRIPTION:To celebrate the birthday of Charles Darwin\, join us for a fun and entertaining virtual world tour of science and natural history museums.
URL:https://darwinday.org/event/darwin-day-celebration-virtual-museum-world-tour/
LOCATION:Zoom\, Syracuse\, NY\, United States
ATTACH;FMTTYPE=image/png:https://darwinday.org/wp-content/uploads/2022/01/Screen-Shot-2022-01-19-at-2.08.35-PM.png
ORGANIZER;CN="Central New York Humanist Association":MAILTO:cnyhumanists@gmail.com
END:VEVENT
BEGIN:VEVENT
DTSTART;TZID=UTC:20220206T143000
DTEND;TZID=UTC:20220206T163000
DTSTAMP:20260421T154519
CREATED:20220201T033830Z
LAST-MODIFIED:20220201T034619Z
UID:16971-1644157800-1644165000@darwinday.org
SUMMARY:Sacramento Darwin Day
DESCRIPTION:Sacramento Darwin Day \nSunday\, February 6\, 2022\, 2:30pm – 4:30pm\nConcussion & Cognition: An Evolutionary Approach \nPresenting the 25th fabulous year of the Darwin Day Birthday Gala\, Sacramento’s coolest\, most singular\, most go-to event of science and humanity\, brought to you by area science advocates\, civic groups and nerds on too much coffee. An online event\, marking Charles Darwin’s 213rd birthday. Open to all. But registration is required. \nDarwin Day is a science-rush like no other\, a celebration of scientific inquiry honoring of the life and work of the great Charles Darwin (b. 12 February 1809)\, sponsored worldwide by community and educational groups. We support it and commend it to all our friends in the Sacramento community of reason. Because science! And what’s science but reason in the trenches? \nThe 2022 program will begin at 2:30 o’clock post meridiem on Feb 6. This year you can attend by video from the cozy comfort and lockdown safety of your home. The key speaker will be Dr. Eric A. Nauman\, Professor of Mechanical Engineering\, Basic Medical Sciences and Biomedical Engineering\, at the University of Cincinnatti\, Purdue. His talk will focus on human cell and tissue mechanics\, with a focus on concussive injury from a human evolutionary perspective. The event will also include entertainment. \nFor the safety of all\, attendance will be via online Video. No special software needed to attend\, just go to the link before the program starts\, enter your name & email address\, and enjoy. \nHow to register: \nFee is a mere $10\, or $5 for students with student ID. No special software required\, the convenient Videoconference link will come to you by email.  Register here:\nhttps://paybee.io/quickpay.html?handle=sacdarwinday#optionList \nFor more general details on this event\, see https://www.sacdarwinday.org/ \nOr see the beautiful event flyer at https://www.sacdarwinday.org/wp-content/uploads/2022/01/Darwin-Day-Flier-2022.pdf \n\nFinally\, to support Sacramento Darwin Day (i.e.\, donate\, so next year’s event can be even better)\, go to the Paybee link above\, and toss Darwin Day some loose change. You can afford it. \nLocation:  An online Videoconference – see link above. \nContact:  Pat Desmond\, ph. 530-598-6080\, or email “patdesmond8 (at) gmail (dot) com” \nAlmost cheap as free\, and extra donations cheerfully accepted. Support science in Sacramento!
URL:https://darwinday.org/event/16971/
LOCATION:Online
END:VEVENT
END:VCALENDAR