BEGIN:VCALENDAR
VERSION:2.0
PRODID:-//Darwin Day - ECPv6.9.0//NONSGML v1.0//EN
CALSCALE:GREGORIAN
METHOD:PUBLISH
X-WR-CALNAME:Darwin Day
X-ORIGINAL-URL:https://darwinday.org
X-WR-CALDESC:Events for Darwin Day
REFRESH-INTERVAL;VALUE=DURATION:PT1H
X-Robots-Tag:noindex
X-PUBLISHED-TTL:PT1H
BEGIN:VTIMEZONE
TZID:UTC
BEGIN:STANDARD
TZOFFSETFROM:+0000
TZOFFSETTO:+0000
TZNAME:UTC
DTSTART:20200101T000000
END:STANDARD
END:VTIMEZONE
BEGIN:VEVENT
DTSTART;TZID=UTC:20200205T100000
DTEND;TZID=UTC:20200313T220000
DTSTAMP:20260423T072803
CREATED:20200121T063239Z
LAST-MODIFIED:20211002T044311Z
UID:16883-1580896800-1584136800@darwinday.org
SUMMARY:"ADOPT A TREE!"  -  "Adottiamo un albero!"
DESCRIPTION:“Adopt” a tree is the title that the Ivrea 2 Comprehensive Institute has chosen to celebrate the Darwin Day 2020 event. The photographs of the trees that the students of the institute will be published in the period 12/02 – 13/03/2020 have decided to adopt.
URL:https://darwinday.org/event/adopt-a-tree-adottiamo-un-albero/
LOCATION:IC Ivrea 2\, Ivrea\, Torino\, 10015\, Italy
ORGANIZER;CN="Gallo Enrico":MAILTO:emelen@libero.it
END:VEVENT
BEGIN:VEVENT
DTSTART;TZID=UTC:20200210T100000
DTEND;TZID=UTC:20200313T220000
DTSTAMP:20260423T072803
CREATED:20200121T070200Z
LAST-MODIFIED:20211002T044314Z
UID:16884-1581328800-1584136800@darwinday.org
SUMMARY:"ADOPT A TREE!" - "ADOTTIAMO UN ALBERO"
DESCRIPTION:“Adopt a tree” is the title chosen for the 2020 Darwin day by the Istituto Comprensivo di Ivrea 2. The trees chosen by the students of the Institute will be photographed and published starting from February 12.
URL:https://darwinday.org/event/adopt-a-tree-adottiamo-un-albero-2/
LOCATION:IC Ivrea 2\, Ivrea\, Torino\, 10015\, Italy
ORGANIZER;CN="i.c. Ivrea 2":MAILTO:enrico@icivrea2.it
END:VEVENT
BEGIN:VEVENT
DTSTART;TZID=UTC:20200214T183000
DTEND;TZID=UTC:20200214T200000
DTSTAMP:20260423T072803
CREATED:20200122T162513Z
LAST-MODIFIED:20211002T044323Z
UID:16888-1581705000-1581710400@darwinday.org
SUMMARY:Volti in byte
DESCRIPTION:La ricostruzione facciale dall’archeologia forense all’antropologia evoluzionistica\nConferenza dell’archeologo Luca Bezzi di Arc Team
URL:https://darwinday.org/event/volti-in-byte/
LOCATION:Palazzo Toffoli\, Via Giuseppe Verdi\, 22\, Montereale Valcellina\, Pordenone\, 33086\, Italy
ATTACH;FMTTYPE=:
ORGANIZER;CN="Uaar - Circolo di Pordenone":MAILTO:pordenone@uaar.it
END:VEVENT
BEGIN:VEVENT
DTSTART;TZID=UTC:20200214T203000
DTEND;TZID=UTC:20200214T220000
DTSTAMP:20260423T072803
CREATED:20200122T162901Z
LAST-MODIFIED:20211002T044327Z
UID:16889-1581712200-1581717600@darwinday.org
SUMMARY:Open Archaeology
DESCRIPTION:Software\, hardware e dati aperti per una conoscenza accessibile\nConferenza dell’archeologo Luca Bezzi di Arc Team
URL:https://darwinday.org/event/open-archaeology/
LOCATION:Polo Tecnologico\, Via Roveredo\, 20/b\, Pordenone PN\, Pordenone\, 33170\, Italy
ATTACH;FMTTYPE=:
ORGANIZER;CN="Uaar - Circolo di Pordenone":MAILTO:pordenone@uaar.it
END:VEVENT
END:VCALENDAR