BEGIN:VCALENDAR
VERSION:2.0
PRODID:-//Darwin Day - ECPv6.9.0//NONSGML v1.0//EN
CALSCALE:GREGORIAN
METHOD:PUBLISH
X-WR-CALNAME:Darwin Day
X-ORIGINAL-URL:https://darwinday.org
X-WR-CALDESC:Events for Darwin Day
REFRESH-INTERVAL;VALUE=DURATION:PT1H
X-Robots-Tag:noindex
X-PUBLISHED-TTL:PT1H
BEGIN:VTIMEZONE
TZID:UTC
BEGIN:STANDARD
TZOFFSETFROM:+0000
TZOFFSETTO:+0000
TZNAME:UTC
DTSTART:20200101T000000
END:STANDARD
END:VTIMEZONE
BEGIN:VEVENT
DTSTART;TZID=UTC:20200205T100000
DTEND;TZID=UTC:20200313T220000
DTSTAMP:20260423T055650
CREATED:20200121T063239Z
LAST-MODIFIED:20211002T044311Z
UID:16883-1580896800-1584136800@darwinday.org
SUMMARY:"ADOPT A TREE!"  -  "Adottiamo un albero!"
DESCRIPTION:“Adopt” a tree is the title that the Ivrea 2 Comprehensive Institute has chosen to celebrate the Darwin Day 2020 event. The photographs of the trees that the students of the institute will be published in the period 12/02 – 13/03/2020 have decided to adopt.
URL:https://darwinday.org/event/adopt-a-tree-adottiamo-un-albero/
LOCATION:IC Ivrea 2\, Ivrea\, Torino\, 10015\, Italy
ORGANIZER;CN="Gallo Enrico":MAILTO:emelen@libero.it
END:VEVENT
BEGIN:VEVENT
DTSTART;TZID=UTC:20200210T100000
DTEND;TZID=UTC:20200313T220000
DTSTAMP:20260423T055650
CREATED:20200121T070200Z
LAST-MODIFIED:20211002T044314Z
UID:16884-1581328800-1584136800@darwinday.org
SUMMARY:"ADOPT A TREE!" - "ADOTTIAMO UN ALBERO"
DESCRIPTION:“Adopt a tree” is the title chosen for the 2020 Darwin day by the Istituto Comprensivo di Ivrea 2. The trees chosen by the students of the Institute will be photographed and published starting from February 12.
URL:https://darwinday.org/event/adopt-a-tree-adottiamo-un-albero-2/
LOCATION:IC Ivrea 2\, Ivrea\, Torino\, 10015\, Italy
ORGANIZER;CN="i.c. Ivrea 2":MAILTO:enrico@icivrea2.it
END:VEVENT
BEGIN:VEVENT
DTSTART;TZID=UTC:20200210T190000
DTEND;TZID=UTC:20200212T213000
DTSTAMP:20260423T055650
CREATED:20211002T044252Z
LAST-MODIFIED:20211002T044252Z
UID:16880-1581361200-1581543000@darwinday.org
SUMMARY:2020 Darwin Day Special Nights : This View of Science
DESCRIPTION:2020 Darwin Day Special Nights\nThis View of Science\n10\, 11\, 12 February 2020 \nOn February 12 in 1809\, Charles Robert Darwin was born in Shrewsbury\, England\,. On the Origins of Species published by Darwin in 1859 changed the world literally overnight and the impact has continued even now. Darwin’s birth day 12 February is the International Darwin Day. Special events are held to celebrate his achievement and to promote the sense of wonder around the world.\nDarwin conclueded On The Origin of Species with “this view of life.” The main theme of this year’s Darwin Day event at the Liberal Arts Lab Darwin Room is “This View of Science” It consists of three nights Darwin Discourse from 10 to 12 February. The host of the talk events will be Masataka Watanabe who is a leading Darwin researcher and science writer in Japan. \n☆Special Talk Events\nThe First Night: 10 February 19:30～21:30\n  The Delight of Science Essay\n  Hazuki Saisyou + Masataka Watanabe \nScience essays are one of the genres that talk about science. In Japan\, there are traditions beginning with Torahiko Terada and Ukichiro Nakatani\, but the origin might be sought in the classic diary literatures as The Pillow Book of Sei Shonagon that refer to the changing seasons. Tonight we will talk about the delight of science essays. \nThe Second Night: 11 February 18:00 ~ 20:00\nHow to enjoy evolution from Steve Gould\nMakio Mukai+Masataka Watanabe \nStephen Jay Gould\, the author of the classic popular science book Wonderful Life\, was a prominent evolutionary biologist and science essay expert. His themes include not only science\, but also pop topics such as Mickey Mouse\, Hershey’s Choco Bar\, and Major League Baseball. Dr. Mukai who is a great Gould fan and also known as Major League enthusiast will talk about how to enjoy evolution from Gould. \nThe Third Night: 12 February 19:30～21:30\nFutoshiki Ueki+Masataka Watanabe\nThe Super Darwin Prize as You Like \nThe Darwin Awards is a black joke and parody of the theory of natural selection. Regardless of it\, we will select our own Super Darwin Prize that is bestowed on the funny trials of science with a science writer Futoshiki Ueki\, the author of Our Sorrow Super Weapons.  \nOrganized by Darwin Room\nCo‒organized by Japanese Association for Science Communication (JASC) \nHost and Guests \nMasataka Watanabe\nProfessor Masataka Watanabe is an evolutionary Biologist by education and a science writer by trade and the president of JASC. He is an author of six books and a co‒author of three books about history of science and evolutionary biology. He also translated over 50 English popular science books into Japanese including almost all books written by Stephen Jay Gould and On The Origin of Species. \nHazuki Saisyou\nMs. Hazuki Saisyou is a nonfiction writer. Her work covers from the relation between science and human\, sports\, to mental health. She has won a lot of literary awards.   \nMakio Mukai\nDr. Makio Mukai worked at Keio University Hospital as a senior pathologist more than 30 years. He loves Major League Baseball\, S.J.Gould and his wife who is the first woman astronaut in Japan. He is also a bestselling author of a collection of essays. \nFutoshiki Ueki\nMr. Futishiki Ueki is a science writer with a reputation for humor. His latest book Our Sorrow Super Weapons digs up a lot of funny ideas for super weapons.
URL:https://darwinday.org/event/2020-darwin-day-special-nights-view-science/
LOCATION:Darwin Room\, 5-31-8 Daizawa\, Setagaya-ku \, Tokyo\, Tokyo\, 1550032\, Japan
ATTACH;FMTTYPE=:
END:VEVENT
BEGIN:VEVENT
DTSTART;TZID=UTC:20200212T090000
DTEND;TZID=UTC:20200212T090000
DTSTAMP:20260423T055650
CREATED:20200131T044831Z
LAST-MODIFIED:20211002T044405Z
UID:16914-1581498000-1581498000@darwinday.org
SUMMARY:Darwin Day 2020: venha celebrar o dia
DESCRIPTION:We are inviting people to celebrate the birthday of Charles Darwin and to discuss evolution and the risk of creationism in Brazil today. Science is under threat today in Brazil and we need to hold hands against pseudoscience and mysticism.
URL:https://darwinday.org/event/darwin-day-2020-venha-celebrar-o-dia/
LOCATION:UFU – Universidade Federal de Uberlandia\, Av. João Naves de Ávila\, 2121\, Uberlandia\, Minas Gerais\, 38400902\, Brazil
ATTACH;FMTTYPE=:
ORGANIZER;CN="Kleber Del Claro":MAILTO:kdelclaro@gmail.com
END:VEVENT
BEGIN:VEVENT
DTSTART;TZID=UTC:20200212T101500
DTEND;TZID=UTC:20200212T150000
DTSTAMP:20260423T055650
CREATED:20200129T211411Z
LAST-MODIFIED:20211002T044351Z
UID:16900-1581502500-1581519600@darwinday.org
SUMMARY:Darwin Day 2020 at the University of Oslo
DESCRIPTION:Sequencing life – for the future of life! This year’s Darwin Day event covers a moonshot for biology: Resolving all genomes on earth within a decade! Speakers: Kerstin Lindblad-Toh\, Guojie Zhang\, Maren Wellenreuther\, and Tom Gilbert.
URL:https://darwinday.org/event/darwin-day-2020-at-the-university-of-oslo/
LOCATION:Vilhems Bjerknes’ hus\, UiO\, Blindern\, Moltke Moes vei 35\, Oslo\, Oslo\, 0851\, Norway
ORGANIZER;CN="CEES at the University of Oslo":MAILTO:tore.wallem@ibv.uio.no
END:VEVENT
BEGIN:VEVENT
DTSTART;TZID=UTC:20200212T110000
DTEND;TZID=UTC:20200212T170000
DTSTAMP:20260423T055650
CREATED:20200110T032545Z
LAST-MODIFIED:20211002T044218Z
UID:16875-1581505200-1581526800@darwinday.org
SUMMARY:Happy Darwin Day!
DESCRIPTION:Join us in celebrating Charles Darwin’s birthday and his legacy of intellectual courage. Enjoy a science-focused Walk & Talk through our exhibits plus birthday cupcakes—all included with regular admission. Talks begin at noon\, 1:00\, 2:00\, and 3:00 p.m. Purchase an individual or family museum membership on Darwin Day and get 20 percent off!  \nIncluded with regular admission; free for MNCH members and UO ID card holders. Show your Oregon Trail or other EBT card for an admission discount.
URL:https://darwinday.org/event/happy-darwin-day/
LOCATION:The Museum of Natural and Cultural History\, 1680 E. 15th Ave.\, Eugene\, OR\, 97403\, United States
ATTACH;FMTTYPE=:
ORGANIZER;CN="Museum of Natural and Cultural History":MAILTO:mnch@uoregon.edu
END:VEVENT
BEGIN:VEVENT
DTSTART;TZID=UTC:20200212T113000
DTEND;TZID=UTC:20200212T133000
DTSTAMP:20260423T055650
CREATED:20200131T003409Z
LAST-MODIFIED:20211002T044358Z
UID:16909-1581507000-1581514200@darwinday.org
SUMMARY:Darwin Day Morgantown 2020
DESCRIPTION:A Celebration of Science and Reason will be held from 11:30am to 1:30pm at 123 Pleasant St. \, Morgantown \, WV \, on Feb 12 \,2020.\nA « Free Lunch » will be provided to the first 40 to reserve or arrive early – generously provided by a grant from the American Humanists Association ; Professor Richard Smosna will be the keynote speaker whose presentation will be « Pitfalls of Science »
URL:https://darwinday.org/event/darwin-day-morgantown-2020/
LOCATION:123 Pleasant St.\, 123 Pleasant St.\, Morgantown\, WV\, 26505\, United States
ORGANIZER;CN="Wild Wonderful Humanists of Morgantown":MAILTO:Timothynelms@hotmail.com
END:VEVENT
BEGIN:VEVENT
DTSTART;TZID=UTC:20200212T130000
DTEND;TZID=UTC:20200212T143000
DTSTAMP:20260423T055650
CREATED:20200110T154912Z
LAST-MODIFIED:20211002T044230Z
UID:16876-1581512400-1581517800@darwinday.org
SUMMARY:ARCHAEA AND THE TREE OF LIFE
DESCRIPTION:Lecture by SIMONETTA GRIBALDO (Institut Pasteur\, Paris) with the support of Institut d’Estudis Catalans IEC and Institut Français/Ambassade de France en Espagne.
URL:https://darwinday.org/event/archaea-and-the-tree-of-life/
LOCATION:Sala Charles Darwin\, Aulari Interfacultatiu\, Campus de Burjassot (Universitat de València)\, Av. Vicent Andrés Estellés\, Burjassot\, 46100\, Spain
ORGANIZER;CN="UVEG/IEC/Institut Fran%C3%A7ais de Valence":MAILTO:cdciencia@uv.es
END:VEVENT
BEGIN:VEVENT
DTSTART;TZID=UTC:20200212T160000
DTEND;TZID=UTC:20200212T170000
DTSTAMP:20260423T055650
CREATED:20200121T004107Z
LAST-MODIFIED:20211002T044306Z
UID:16882-1581523200-1581526800@darwinday.org
SUMMARY:Darwin Day at SFA
DESCRIPTION:Free public presentation:  Seminar by Dr. Scott Egan (Rice University) entitled “Natural selection promotes the ‘Origin of Species’ among populations of herbivorous insects.”
URL:https://darwinday.org/event/darwin-day-at-sfa-4/
LOCATION:Kennedy Auditorium\, Stephen F. Austin State University\, Nacogdoches\, TX\, 75962\, United States
ATTACH;FMTTYPE=:
ORGANIZER;CN="Stephen Mullin":MAILTO:biology@sfasu.edu
END:VEVENT
BEGIN:VEVENT
DTSTART;TZID=UTC:20200212T180000
DTEND;TZID=UTC:20200212T203000
DTSTAMP:20260423T055650
CREATED:20200110T031913Z
LAST-MODIFIED:20200110T031913Z
UID:16872-1581530400-1581539400@darwinday.org
SUMMARY:Celebrate Darwin Day with “Darwin’s Apostles” Authors
DESCRIPTION:The politicization of science is nothing new for evolutionary biologists. Discover how Darwin’s apostles\, those who carried the torch of evolutionary biology\, launched a campaign for truth that\, despite powerful opposition\, largely succeeded. Find out what they did\, where they succeeded\, where they failed\, and what we can learn from them. \nDoors open at 5:30pm. Event will include a talk by each author and time for them to sign books. Light refreshments will be available. \nDarwin as Apical Freethought Ancestor \nDavid Orenstein\, Professor of Anthropology at Medgar Evers College of the City University of New York \nDarwin’s work in biology supported the work of scientists\, freethinkers\, and social activists in the United States and Europe. Building on such work has led us to the global pursuit of a humane understanding of our world. We stand on the shoulders of humanist giants who\, in turn\, stood on Darwin’s seminal works to inform their ideas and activism. \nWhat Today’s fighters against Fake News Can Learn from Darwin’s Apostles \nDr. Abby Hafer\, Senior Lecturer in Biology at Curry College in Milton \nBattling falsehoods pretending to be facts\, absurd counter-narratives\, and the politicization of science is nothing new for evolutionary biologists. In our current battle against fake news\, there is much that these brave scientists can teach us. \nSpeakers\nDr. David Orenstein is a full professor of anthropology at CUNY – Medgar Evers College. He is an international speaker on science education\, evolution acceptance\, and human rights. Dr. Orenstein is also the American Humanist Association’s representative to the United Nations. Early training as a primatologist has lead to a lifetime of humanist activism and concern for our understanding of the cosmos\, the Earth and our shared humanity. \nDr. Abby Hafer is a biologist\, educator\, writer\, public speaker\, and professional debunker. She has a doctorate in zoology from Oxford University and teaches human anatomy and physiology at Curry College. Her written works include the books The Not-So-Intelligent Designer\, and Darwin’s Apostles; numerous book chapters\, and articles. She debunks both the gender binary and Creationism/Intelligent Design using humor and bullet-proof science. Dr. Hafer is also the co-author of Bill H.471\, a bill in the Massachusetts legislature which requires that all science taught in public schools be based on peer-reviewed science. She hopes that someday\, reality-based public science education will be thus protected all over the country.
URL:https://darwinday.org/event/celebrate-darwin-day-with-darwins-apostles-authors/
LOCATION:American Humanist Association\, 1821 Jefferson Place\, NW\, Washington\, DC\, 20036\, United States
END:VEVENT
BEGIN:VEVENT
DTSTART;TZID=UTC:20200212T180000
DTEND;TZID=UTC:20200212T210000
DTSTAMP:20260423T055650
CREATED:20200130T074208Z
LAST-MODIFIED:20200130T074208Z
UID:16905-1581530400-1581541200@darwinday.org
SUMMARY:Darwin Day Party | Humanists & Freethinkers of New Bern
DESCRIPTION:It’s February and time to celebrate Darwin Day! We will gather at 6 pm on Wednesday\, February 12\, which is Darwin’s birthday. This annual event is a party and a T-shirt contest. Wear a T-shirt honoring Charlie\, evolution or science or one that expresses your humanism or your passion or whatever really matters to you as a humanist and freethinker. If you don’t have just the right T-shirt for this occasion\, create your own. Starting at around 7:30pm\, we will begin the T-shirt contest. Each person will have the opportunity to show off their T-shirt with an explanation\, if needed\, and all will vote for their favorite T-shirt. Prizes will be awarded to the winners. It’s always been a fabulous gathering\, so please join us. New members and visitors are most welcome and everyone is encouraged to bring a guest. Please bring an hors d’oeuvre or bottle of wine to share. There’ll be cake and ice cream after the T-shirt contest. After all\, it is a birthday party! \nPlease RSVP and find more information on MeetUp here.
URL:https://darwinday.org/event/darwin-day-party-humanists-freethinkers-of-new-bern/
LOCATION:Queen’s Point\, 742 E. Front Street\, New Bern\, NC\, United States
END:VEVENT
BEGIN:VEVENT
DTSTART;TZID=UTC:20200212T183000
DTEND;TZID=UTC:20200212T200000
DTSTAMP:20260423T055650
CREATED:20200122T162315Z
LAST-MODIFIED:20211002T044318Z
UID:16886-1581532200-1581537600@darwinday.org
SUMMARY:Eppure Darwin non sapeva
DESCRIPTION:Conferenza di Elisa Corteggiani\, biologa
URL:https://darwinday.org/event/eppure-darwin-non-sapeva/
LOCATION:Ex Tipografia Savio\, Via Torricella\, Pordenone PN\, Pordenone\, 33170\, Italy
ATTACH;FMTTYPE=:
ORGANIZER;CN="Uaar - Circolo di Pordenone":MAILTO:pordenone@uaar.it
END:VEVENT
BEGIN:VEVENT
DTSTART;TZID=UTC:20200212T190000
DTEND;TZID=UTC:20200212T210000
DTSTAMP:20260423T055650
CREATED:20200110T154806Z
LAST-MODIFIED:20211002T044227Z
UID:16878-1581534000-1581541200@darwinday.org
SUMMARY:Bar de Ciències: La dansa de l'evolució i la biodiversitat
DESCRIPTION:Amb motiu de la publicació del monogràfic de la revista Mètode“Formes infinites: Escenaris evolutius per a desxifrar la biodiversitat”. Amb PAU CARAZO i RAQUEL ORTELLS (Institut Cavanilles de Biodiversitat i Biologia Evolutiva\, UVEG). Modera: REIS JUAN\, periodista.
URL:https://darwinday.org/event/bar-de-ciencies-la-dansa-de-levolucio-i-la-biodiversitat/
LOCATION:Octubre CCC\, Sant Ferran 12\, Valencia\, Valencia\, 46001\, Spain
ORGANIZER;CN="Espai Ci%C3%A8ncia/UVEG/IEC/ACPV":MAILTO:cdciencia@valencia.edu
END:VEVENT
BEGIN:VEVENT
DTSTART;TZID=UTC:20200212T190000
DTEND;TZID=UTC:20200212T213000
DTSTAMP:20260423T055650
CREATED:20200129T081412Z
LAST-MODIFIED:20211002T044348Z
UID:16894-1581534000-1581543000@darwinday.org
SUMMARY:Darwin Day: The Plausibility of Life
DESCRIPTION:“but the old saying of ‘Vox populi\, vox Dei’\, as every philosopher knows\, cannot be trusted in science”\n— Charles Darwin\, Origin of Species \nIn celebration of Charles Darwin Day 2020\, the Secular Society of MIT presents a special talk by Harvard University cell biologist Marc W Kirschner. Dr Kirschner is known for major discoveries in cell and developmental biology\, and for co-authoring “The Plausibility of Life: Resolving Darwin’s Dilemma”\, a seminal book presenting the scientific case for how living organisms on Earth developed with such astounding variety and complexity. He will discuss his solutions to this puzzle\, reflect on the book’s relevance 15 years on\, and respond to criticism of his ideas by intelligent design advocates. \nWHEN: Wednesday\, FEB/12\, 7pm\nWHERE: 2-190 (1st Floor\, 182 Memorial Drive\, https://whereis.mit.edu/?go=2) \nFree entry. Darwin’s birthday party with cake\, beverages\, and themed games follows talk.\nThe event will be photographed and recorded. \nFacebook Event link: https://www.facebook.com/events/459452284933486/\nMIT calendar link: http://calendar.mit.edu/event/ssomit_darwin_day_2020 \nFunded by the MIT Association for Students Activities and the Greater Boston Humanists \n——————\nSign up for email event alerts at http://mailman.mit.edu/mailman/listinfo/ssomit-announce\nFacebook: facebook.com/SecularSocietyOfMIT\nTwitter: twitter.com/SecularMIT\nWebsite: ssomit.mit.edu\nEmail: ssomit@mit.edu
URL:https://darwinday.org/event/darwin-day-the-plausibility-of-life/
LOCATION:MIT 2-190\, 182 Memorial Drive\, Cambridge\, MA\, 02142\, United States
ATTACH;FMTTYPE=:
ORGANIZER;CN="Secular Society of MIT":MAILTO:ssomit@mit.edu
END:VEVENT
BEGIN:VEVENT
DTSTART;TZID=UTC:20200212T190000
DTEND;TZID=UTC:20200212T220000
DTSTAMP:20260423T055650
CREATED:20200110T025735Z
LAST-MODIFIED:20200110T025735Z
UID:16869-1581534000-1581544800@darwinday.org
SUMMARY:Chicago Humanists | Darwin Day Fundraising Dinner 2020
DESCRIPTION:International Darwin Day inspires people throughout the globe to reflect and act on the principles of intellectual bravery\, perpetual curiosity\, scientific thinking\, and hunger for truth as embodied in Charles Darwin. It is a day of celebration\, activism\, and international cooperation for the advancement of science\, education\, and human well-being. \nThe Chicago Darwin Day Fundraising Dinner is a new tradition hosted by the Chicago Humanists. Join us for delicious food\, good conversations\, and fun auctions to raise funds for the Humanist cause in Chicago. \nThe dinner price includes an Italian family-style dinner with vegetarian and non-vegetarian options. Beverages are charged per consumption. The dinner will be held at Enoteca Davanti in Little Italy. \nRegister now!
URL:https://darwinday.org/event/chicago-humanists-darwin-day-fundraising-dinner-2020/
LOCATION:Davanti Enoteca\, 1359 W Taylor St\, Chicago\, IL\, 60607\, United States
END:VEVENT
END:VCALENDAR