BEGIN:VCALENDAR
VERSION:2.0
PRODID:-//Darwin Day - ECPv6.9.0//NONSGML v1.0//EN
CALSCALE:GREGORIAN
METHOD:PUBLISH
X-WR-CALNAME:Darwin Day
X-ORIGINAL-URL:https://darwinday.org
X-WR-CALDESC:Events for Darwin Day
REFRESH-INTERVAL;VALUE=DURATION:PT1H
X-Robots-Tag:noindex
X-PUBLISHED-TTL:PT1H
BEGIN:VTIMEZONE
TZID:UTC
BEGIN:STANDARD
TZOFFSETFROM:+0000
TZOFFSETTO:+0000
TZNAME:UTC
DTSTART:20200101T000000
END:STANDARD
END:VTIMEZONE
BEGIN:VEVENT
DTSTART;TZID=UTC:20200205T100000
DTEND;TZID=UTC:20200313T220000
DTSTAMP:20260423T074113
CREATED:20200121T063239Z
LAST-MODIFIED:20211002T044311Z
UID:16883-1580896800-1584136800@darwinday.org
SUMMARY:"ADOPT A TREE!"  -  "Adottiamo un albero!"
DESCRIPTION:“Adopt” a tree is the title that the Ivrea 2 Comprehensive Institute has chosen to celebrate the Darwin Day 2020 event. The photographs of the trees that the students of the institute will be published in the period 12/02 – 13/03/2020 have decided to adopt.
URL:https://darwinday.org/event/adopt-a-tree-adottiamo-un-albero/
LOCATION:IC Ivrea 2\, Ivrea\, Torino\, 10015\, Italy
ORGANIZER;CN="Gallo Enrico":MAILTO:emelen@libero.it
END:VEVENT
BEGIN:VEVENT
DTSTART;TZID=UTC:20200209T100000
DTEND;TZID=UTC:20200209T120000
DTSTAMP:20260423T074113
CREATED:20200122T231319Z
LAST-MODIFIED:20211002T044337Z
UID:16879-1581242400-1581249600@darwinday.org
SUMMARY:Central Colorado Celebrates Darwin Day 2020!
DESCRIPTION:We’ll watch a one-hour DVD titled “Where Did We Come From?”\, narrated by Neil DeGrasse Tyson. This PBS-produced NOVA episode starts at the beginning\, examining the birth of our solar system. We will meet a chemist who has developed a new recipe for creating the building blocks of life\, and see how the head louse offers clues about our own evolution. One truth about evolution: it is never standing still\, and neither are our scientific investigations into the process. Join us to reflect on the intellectual bravery and scientific thinking of Charles Darwin…and have some birthday cake!
URL:https://darwinday.org/event/central-colorado-celebrates-darwin-day-2020/
LOCATION:Buena Vista Community Center\, 715 E Main St\, Buena Vista\, CO\, 81211\, United States
ATTACH;FMTTYPE=:
ORGANIZER;CN="CCH Science Committee":MAILTO:centralcoloradohumanist@gmail.com
END:VEVENT
BEGIN:VEVENT
DTSTART;TZID=UTC:20200209T110000
DTEND;TZID=UTC:20200209T110000
DTSTAMP:20260423T074113
CREATED:20200130T150506Z
LAST-MODIFIED:20211002T044355Z
UID:16908-1581246000-1581246000@darwinday.org
SUMMARY:International Darwin Day 2020
DESCRIPTION:To celebrate the International Darwin Day\, the Biological Society of Slovenia (http://dbs.biologija.org/) is organising a central event on February 9\, 2020\, at the Slovenian Museum of Natural History\, where a lecture entitled The Origin of Biodiversity Through Adaptive Radiation is going to be held by Doc. Dr. Cene Fišer. On this occasion\, Doc. Dr. Fišer will address the Slovene public with an epistle on International Darwin Day.\nThe recording of the lecture and the epistle will be freely available online to all educational institutions and the public on http://videolectures.net as early as February 12\, 2020.
URL:https://darwinday.org/event/international-darwin-day-2020/
LOCATION:Slovenian Museum of Natural History\, Muzejska ulica 1\, 1000 Ljubljana\, Ljubljana\, Slovenia
END:VEVENT
END:VCALENDAR