BEGIN:VCALENDAR
VERSION:2.0
PRODID:-//Darwin Day - ECPv6.9.0//NONSGML v1.0//EN
CALSCALE:GREGORIAN
METHOD:PUBLISH
X-ORIGINAL-URL:https://darwinday.org
X-WR-CALDESC:Events for Darwin Day
REFRESH-INTERVAL;VALUE=DURATION:PT1H
X-Robots-Tag:noindex
X-PUBLISHED-TTL:PT1H
BEGIN:VTIMEZONE
TZID:UTC
BEGIN:STANDARD
TZOFFSETFROM:+0000
TZOFFSETTO:+0000
TZNAME:UTC
DTSTART:20200101T000000
END:STANDARD
END:VTIMEZONE
BEGIN:VEVENT
DTSTART;TZID=UTC:20200203T130000
DTEND;TZID=UTC:20200203T150000
DTSTAMP:20260423T055941
CREATED:20200118T033409Z
LAST-MODIFIED:20211002T044233Z
UID:16881-1580734800-1580742000@darwinday.org
SUMMARY:Some Implications of Evolution with Bryce M. Hand
DESCRIPTION:It’s time once again for our Darwin Day celebration! Please join us for a talk by Bryce Hand\, Professor Emeritus of Geology at SU and CNY Skeptic\, called Some Implications of Evolution. Bryce is always a fascinating speaker\, and evolution is always a fascinating topic! \nAnd since this is in part a birthday party for Charles Darwin\, there will be\, naturally\, cupcakes.  \nPlease join us. All are welcome!
URL:https://darwinday.org/event/some-implications-of-evolution-with-bryce-m-hand/
LOCATION:North Syracuse Public Library\, 100 Trolley Barn Lane\, North Syracuse\, NY\, 13212\, United States
ATTACH;FMTTYPE=:
ORGANIZER;CN="Central New York Humanist Association":MAILTO:cnyhumanists@gmail.com
END:VEVENT
END:VCALENDAR