BEGIN:VCALENDAR
VERSION:2.0
PRODID:-//Darwin Day - ECPv6.9.0//NONSGML v1.0//EN
CALSCALE:GREGORIAN
METHOD:PUBLISH
X-WR-CALNAME:Darwin Day
X-ORIGINAL-URL:https://darwinday.org
X-WR-CALDESC:Events for Darwin Day
REFRESH-INTERVAL;VALUE=DURATION:PT1H
X-Robots-Tag:noindex
X-PUBLISHED-TTL:PT1H
BEGIN:VTIMEZONE
TZID:UTC
BEGIN:STANDARD
TZOFFSETFROM:+0000
TZOFFSETTO:+0000
TZNAME:UTC
DTSTART:20190101T000000
END:STANDARD
END:VTIMEZONE
BEGIN:VEVENT
DTSTART;VALUE=DATE:20190202
DTEND;VALUE=DATE:20190304
DTSTAMP:20260424T030907
CREATED:20190118T193718Z
LAST-MODIFIED:20190119T061953Z
UID:16635-1549065600-1551657599@darwinday.org
SUMMARY:Darwin Day 2019. La diversità è il segreto della natura
DESCRIPTION:L’Unione Bolognese Naturalisti (UBN)\, il Dipartimento di Scienze Biologiche\, Geologiche e Ambientali (BiGeA) e il Sistema Museale di Ateneo (SMA) dell’Università di Bologna\, insieme alla Fondazione Golinelli\, presentano un programma di eventi per celebrare la nascita di Charles Darwin e per raccontare l’enorme impatto che la teoria dell’evoluzione ha avuto sullo sviluppo delle scienze biologiche\, della medicina\, dell’antropologia\, della filosofia e della sociologia contemporanee. \nCon il patrocinio di: Regione Emilia-Romagna\, Comune di Bologna\, SIBE – Società Italiana di Biologia Evoluzionistica
URL:https://darwinday.org/event/darwin-day-2019-la-diversita-e-il-segreto-della-natura/
LOCATION:Unnamed Venue\, Bologna\, Italy
ATTACH;FMTTYPE=:
END:VEVENT
BEGIN:VEVENT
DTSTART;TZID=UTC:20190203T220000
DTEND;TZID=UTC:20190314T220000
DTSTAMP:20260424T030907
CREATED:20190204T064446Z
LAST-MODIFIED:20190205T032804Z
UID:16729-1549231200-1552600800@darwinday.org
SUMMARY:LUNA: CINQUANT'ANNI DOPO
DESCRIPTION:Gli alunni delle classi 4^ e 5^ dell’Istituto Comprensivo di Ivrea 2 realizzano poster e modelli a tema
URL:https://darwinday.org/event/luna-cinquantanni-dopo/
LOCATION:IC Ivrea 2\, Ivrea\, Torino\, 10015\, Italy
ATTACH;FMTTYPE=:
ORGANIZER;CN="Gallo Enrico":MAILTO:emelen@libero.it
END:VEVENT
BEGIN:VEVENT
DTSTART;TZID=UTC:20190223T140000
DTEND;TZID=UTC:20190223T170000
DTSTAMP:20260424T030907
CREATED:20190206T133158Z
LAST-MODIFIED:20190207T073347Z
UID:16770-1550930400-1550941200@darwinday.org
SUMMARY:Darwin Day 2019 in Singapore
DESCRIPTION:Darwin Day 2019 will be special\, given the 200th anniversary of Raffles’ landing \, and the reflective mood across the nation with regards to its precolonial and natural heritage. \nWe will be hosting two speakers: \nThe first speaker\, Dr John van Wyhe\, will be giving a talk on a lesser known side of Raffles\, his contributions as a naturalist in the early 19th century. \nThe second speaker\, Dr Ho Hua Chew\, veteran conservationist from the Nature Society (Singapore)\, will be sharing about the work done by the Society in protecting Singapore’s natural heritage. \nFees: $8 for members\, $10 for non-members \nABOUT THE SPEAKERS \nDr John van Wyhe is a historian of science at the National University of Singapore who specialises on the history of biology and evolutionary theory. He leads regular expeditions of NUS students through Indonesia to study the state of nature conservation. He has published eleven books and is the Director of Darwin Online and Wallace Online. He lectures and broadcasts around the world. \nDr Ho Hua Chew is a member of the Executive Committee of the Nature Society (Singapore)\, working mainly within the Conservation Committee. As past Chairman of the Society’s Conservation Committee\, he has about two decades of conservation work. Currently\, he continues helping in co-ordinating the Society’s conservation activities & projects\, such as feedbacks to government land-use & development plans\, biodiversity surveys.
URL:https://darwinday.org/event/darwin-day-2019-in-singapore/
LOCATION:Goh Loo Club 吾盧俱樂部\,  72 Club Street\, Singapore\, N.A\, 069714\, Singapore
ATTACH;FMTTYPE=:
ORGANIZER;CN="Humanist Society (Singapore)":MAILTO:info@humanist.org.sg
END:VEVENT
BEGIN:VEVENT
DTSTART;TZID=UTC:20190223T180000
DTEND;TZID=UTC:20190223T200000
DTSTAMP:20260424T030907
CREATED:20190202T073822Z
LAST-MODIFIED:20190202T073822Z
UID:16703-1550944800-1550952000@darwinday.org
SUMMARY:Pino Loricato - Bosnian Pine
DESCRIPTION:Pino Loricato\, dalla Chimica alla Matematica\nNuovi approcci e spunti di studio \nPino Loricato (Pinsu heldreichii)\nLa pece\, la chimica del legno\, le diverse specie di pino\, le tradizioni tecnologiche\, l’evoluzione della specie\, la distribuzione geografica\, il nome\, la longevità\, come cresce un albero\, la matematica. \nBosnian Pine (Pinus heldreichii)\nThe pine pitch\, the chemistry of wood\, the different species of pine\, the technological traditions\, the evolution of the species\, the geographical distribution\, the name\, the longevity\, how a tree grows\, the mathematics. \n23 febbraio 2019\nOre 18:00 \nRelatore dott. Giuseppe Cosenza \nBiblioteca comunale\nVico Oronzo Celani\, 8\nCastelluccio Inferiore (PZ)\nParco Nazionale del Pollino
URL:https://darwinday.org/event/pino-loricato-bosnian-pine/
LOCATION:Castelluccio Inferiore\, Biblioteca Comunale Vico Oronzo Celani\, 8\, Castelluccio Inferiore\, italy\, 85040\, Italy
ATTACH;FMTTYPE=:
ORGANIZER;CN="Associazione Ricomincio da tre":MAILTO:guida@viaggiarenelpollino.it
END:VEVENT
END:VCALENDAR