BEGIN:VCALENDAR
VERSION:2.0
PRODID:-//Darwin Day - ECPv6.9.0//NONSGML v1.0//EN
CALSCALE:GREGORIAN
METHOD:PUBLISH
X-ORIGINAL-URL:https://darwinday.org
X-WR-CALDESC:Events for Darwin Day
REFRESH-INTERVAL;VALUE=DURATION:PT1H
X-Robots-Tag:noindex
X-PUBLISHED-TTL:PT1H
BEGIN:VTIMEZONE
TZID:UTC
BEGIN:STANDARD
TZOFFSETFROM:+0000
TZOFFSETTO:+0000
TZNAME:UTC
DTSTART:20190101T000000
END:STANDARD
END:VTIMEZONE
BEGIN:VEVENT
DTSTART;VALUE=DATE:20190202
DTEND;VALUE=DATE:20190304
DTSTAMP:20260424T031526
CREATED:20190118T193718Z
LAST-MODIFIED:20190119T061953Z
UID:16635-1549065600-1551657599@darwinday.org
SUMMARY:Darwin Day 2019. La diversità è il segreto della natura
DESCRIPTION:L’Unione Bolognese Naturalisti (UBN)\, il Dipartimento di Scienze Biologiche\, Geologiche e Ambientali (BiGeA) e il Sistema Museale di Ateneo (SMA) dell’Università di Bologna\, insieme alla Fondazione Golinelli\, presentano un programma di eventi per celebrare la nascita di Charles Darwin e per raccontare l’enorme impatto che la teoria dell’evoluzione ha avuto sullo sviluppo delle scienze biologiche\, della medicina\, dell’antropologia\, della filosofia e della sociologia contemporanee. \nCon il patrocinio di: Regione Emilia-Romagna\, Comune di Bologna\, SIBE – Società Italiana di Biologia Evoluzionistica
URL:https://darwinday.org/event/darwin-day-2019-la-diversita-e-il-segreto-della-natura/
LOCATION:Unnamed Venue\, Bologna\, Italy
ATTACH;FMTTYPE=:
END:VEVENT
BEGIN:VEVENT
DTSTART;TZID=UTC:20190203T220000
DTEND;TZID=UTC:20190314T220000
DTSTAMP:20260424T031526
CREATED:20190204T064446Z
LAST-MODIFIED:20190205T032804Z
UID:16729-1549231200-1552600800@darwinday.org
SUMMARY:LUNA: CINQUANT'ANNI DOPO
DESCRIPTION:Gli alunni delle classi 4^ e 5^ dell’Istituto Comprensivo di Ivrea 2 realizzano poster e modelli a tema
URL:https://darwinday.org/event/luna-cinquantanni-dopo/
LOCATION:IC Ivrea 2\, Ivrea\, Torino\, 10015\, Italy
ATTACH;FMTTYPE=:
ORGANIZER;CN="Gallo Enrico":MAILTO:emelen@libero.it
END:VEVENT
BEGIN:VEVENT
DTSTART;VALUE=DATE:20190212
DTEND;VALUE=DATE:20190217
DTSTAMP:20260424T031526
CREATED:20190202T073723Z
LAST-MODIFIED:20190202T073723Z
UID:16693-1549929600-1550361599@darwinday.org
SUMMARY:Metodi\, tecnologie e nuove frontiere della ricerca scientifica
DESCRIPTION:Laboratori didattici\, visite al museo archeologico\, conferenze su temi quali le metodologie scientifiche utilizzate in campi quali l’archeologia (scavi Palù di Livenza) e la medicina (cellule staminali).
URL:https://darwinday.org/event/metodi-tecnologie-e-nuove-frontiere-della-ricerca-scientifica/
LOCATION:Palazzo Toffoli\, Via Giuseppe Verdi\, 22\, Montereale Valcellina\, Pordenone\, 33086\, Italy
ATTACH;FMTTYPE=:
ORGANIZER;CN="Uaar - Circolo di Pordenone":MAILTO:pordenone@uaar.it
END:VEVENT
BEGIN:VEVENT
DTSTART;TZID=UTC:20190212T060000
DTEND;TZID=UTC:20190213T180000
DTSTAMP:20260424T031526
CREATED:20190205T023015Z
LAST-MODIFIED:20190206T010258Z
UID:16742-1549951200-1550080800@darwinday.org
SUMMARY:Galapagos Islands Celebration on Charles Darwin with Metropolitan Touring
DESCRIPTION:Our Galapagos operations (expedition vessels and exploration hotel) will see a unique selection of wake-up calls\, bulletin board visual presence\, and natural history lectures related all to the International Darwin Day. Our expedition itineraries will touch base with the great contributions in science connecting the theory of evolution and natural selection to the Galapagos Islands. Our Expedition Leaders will share their vast knowledge on Charles Darwin with our Galapagos explorers. February 12 is also the official day of the Galapagos Islands\, since back in 1832 the islands became an insular territory of the Republic of Ecuador. Events happening at: MV Santa Cruz II\, Yacht La Pinta\, Yacht Isabela II\, and Finch Bay Galapagos Hotel.
URL:https://darwinday.org/event/galapagos-islands-celebration-on-charles-darwin-with-metropolitan-touring/
LOCATION:The Galapagos Islands\, ECUADOR\, Galapagos Islands\, Ecuador
ATTACH;FMTTYPE=:
ORGANIZER;CN="Metropolitan Touring Ecuador":MAILTO:fdousdebes@metropolitan-touring.com
END:VEVENT
BEGIN:VEVENT
DTSTART;TZID=UTC:20190213T130000
DTEND;TZID=UTC:20190213T140000
DTSTAMP:20260424T031526
CREATED:20190118T231352Z
LAST-MODIFIED:20190119T062021Z
UID:16646-1550062800-1550066400@darwinday.org
SUMMARY:Conferència del Dia de Darwin
DESCRIPTION:“Una perspectiva genòmica de l’evolució dels cordats”\nHÉCTOR ESCRIVÁ\, CNRS\, Évolution et développement des Chordés\,\nObservatoire Océanologique de Banyuls
URL:https://darwinday.org/event/conferencia-del-dia-de-darwin/
LOCATION:Sala Charles Darwin\, Aulari Interfacultatiu\, Campus de Burjassot (Universitat de València)\, Av. Vicent Andrés Estellés\, Burjassot\, 46100\, Spain
ORGANIZER;CN="Espai Ci%C3%A8ncia/UVEG/IEC/ACPV":MAILTO:cdciencia@valencia.edu
END:VEVENT
BEGIN:VEVENT
DTSTART;TZID=UTC:20190213T190000
DTEND;TZID=UTC:20190213T203000
DTSTAMP:20260424T031526
CREATED:20190202T073556Z
LAST-MODIFIED:20190202T073556Z
UID:16681-1550084400-1550089800@darwinday.org
SUMMARY:Darwin Day Lecture – Evolution in Your Lifetime (Grand Rapids)
DESCRIPTION:Join us for our Darwin Day Lecture\, Jeffrey K. Conner Ph.D. will be speaking on Evolution in Your Lifetime: Rapid Adaptation to a Changing Environment. \nMost people think of evolution as a slow process that occurs over millions of years\, but biologists have repeatedly demonstrated that evolution can be very rapid when environments change. This rapid adaptation can be both good and bad from a human standpoint. It can be bad when pathogenic bacteria\, insect pests\, and weeds evolve to be more successful and thus make us sick and compete with us for our food. It can also be bad when humans unintentionally exert selection – a prime example is the evolution of smaller fish due to fishing pressure on the largest individuals. \nRapid evolution can be good for humans if it means native species can adapt to the large environmental changes caused by humans and thus avoid extinction. More generally\, all life on earth depends on the process of evolutionary adaptation\, because species that are not well adapted go extinct. This talk will explain the mechanisms underlying evolutionary adaptation with examples from research on both native species and serious agricultural weeds.
URL:https://darwinday.org/event/darwin-day-lecture-evolution-lifetime-grand-rapids/
LOCATION:The Sweet House\, 254 E. Fulton \, Grand Rapids\, MI\, 49503\, United States
ATTACH;FMTTYPE=:
ORGANIZER;CN="Center for Inquiry%E2%80%93Michigan":MAILTO:michigan@centerforinquiry.net
END:VEVENT
BEGIN:VEVENT
DTSTART;TZID=UTC:20190213T190000
DTEND;TZID=UTC:20190213T203000
DTSTAMP:20260424T031526
CREATED:20190213T014729Z
LAST-MODIFIED:20190214T005422Z
UID:16833-1550084400-1550089800@darwinday.org
SUMMARY:PLANETARIUM PROGRAM INTERNATIONAL DARWIN DAY
DESCRIPTION:13 FEBRUARY\nIAU: 100 YEARS UNDER ONE SKY\nKITION PLANETARIUM & OBSERVATORY 2008-2019 11 YEARS \n19:00 PLANETARIUM PROGRAM INTERNATIONAL DARWIN DAY (GR)\nMOVIE “NATURAL SELECTION” (EN)\nOBSERVATIONS OF MARS AND URANUS\nInternational Darwin Day is commemorated this month\, and we will mark this day with a special program containing the planetarium movie “Natural Selection” on the 13th of February. Darwin is credited as the person\, who was the first to speak about evolution\, and who awakened research in this topic. His theory and subsequent developments help us understand how life on Earth changed with time as well as how the evolution of the whole Universe happened. \nYou will have the opportunity to observe two planets Mars and Uranus at our observatory. Uranus was discovered by W. Hershel a compatriot of Charles Darwin\, and this discovery showed that the Solar system was at least twice the size we thought. Every observer will have opportunity to experience how huge is the Solar system is. \nJoin Our Spacewalk! \nINFO & BOOKING: TEL. +357 99991111\n9 AMMOCHOSTOU\, KITI\, 7550\, LARNACA
URL:https://darwinday.org/event/planetarium-program-international-darwin-day/
LOCATION:KITION PLANETARIUM & OBSERVATORY\, 9 Ammochostou\, Kiti\, Larnaca\, Larnaca\, 7550\, Cyprus
ATTACH;FMTTYPE=:
ORGANIZER;CN="KITION PLANETARIUM &amp%3B OBSERVATORY":MAILTO:planetarium@cytanet.com.cy
END:VEVENT
END:VCALENDAR