BEGIN:VCALENDAR
VERSION:2.0
PRODID:-//Darwin Day - ECPv6.9.0//NONSGML v1.0//EN
CALSCALE:GREGORIAN
METHOD:PUBLISH
X-ORIGINAL-URL:https://darwinday.org
X-WR-CALDESC:Events for Darwin Day
REFRESH-INTERVAL;VALUE=DURATION:PT1H
X-Robots-Tag:noindex
X-PUBLISHED-TTL:PT1H
BEGIN:VTIMEZONE
TZID:UTC
BEGIN:STANDARD
TZOFFSETFROM:+0000
TZOFFSETTO:+0000
TZNAME:UTC
DTSTART:20180101T000000
END:STANDARD
END:VTIMEZONE
BEGIN:VEVENT
DTSTART;TZID=UTC:20180108T170500
DTEND;TZID=UTC:20180212T170500
DTSTAMP:20260424T204709
CREATED:20171204T011105Z
LAST-MODIFIED:20171204T011105Z
UID:14813-1515431100-1518455100@darwinday.org
SUMMARY:4^ Edizione della Scienza e Tecnologia a Scuola
DESCRIPTION:Dopo 60 anni dall’IGY (International Geophisical year) la scoperta di centinaia esopianeti porta alla nascita di una nuova scienza: la Planetologia
URL:https://darwinday.org/event/4-edizione-della-scienza-e-tecnologia-a-scuola/
LOCATION:IC Ivrea 2\, Ivrea\, Torino\, 10015\, Italy
ORGANIZER;CN="Gallo Enrico":MAILTO:emelen@libero.it
END:VEVENT
END:VCALENDAR